BEGIN:VCALENDAR
VERSION:2.0
PRODID:-//NADI Kg Kuala Sungga - ECPv6.15.13.1//NONSGML v1.0//EN
CALSCALE:GREGORIAN
METHOD:PUBLISH
X-WR-CALNAME:NADI Kg Kuala Sungga
X-ORIGINAL-URL:https://kualasungga.nadi.my
X-WR-CALDESC:Events for NADI Kg Kuala Sungga
REFRESH-INTERVAL;VALUE=DURATION:PT1H
X-Robots-Tag:noindex
X-PUBLISHED-TTL:PT1H
BEGIN:VTIMEZONE
TZID:Asia/Kuala_Lumpur
BEGIN:STANDARD
TZOFFSETFROM:+0800
TZOFFSETTO:+0800
TZNAME:+08
DTSTART:20240101T000000
END:STANDARD
END:VTIMEZONE
BEGIN:VEVENT
DTSTART;TZID=Asia/Kuala_Lumpur:20251001T153000
DTEND;TZID=Asia/Kuala_Lumpur:20251001T163000
DTSTAMP:20260420T123238
CREATED:20251001T083017Z
LAST-MODIFIED:20251001T083017Z
UID:3438-1759332600-1759336200@kualasungga.nadi.my
SUMMARY:LIVECLASS DILEA BAHASA INGGERIS
DESCRIPTION:
URL:https://kualasungga.nadi.my/event/liveclass-dilea-bahasa-inggeris/
END:VEVENT
BEGIN:VEVENT
DTSTART;TZID=Asia/Kuala_Lumpur:20251002T150000
DTEND;TZID=Asia/Kuala_Lumpur:20251002T163000
DTSTAMP:20260420T123238
CREATED:20251001T082145Z
LAST-MODIFIED:20251001T082145Z
UID:3427-1759417200-1759422600@kualasungga.nadi.my
SUMMARY:MAHIR MASAK
DESCRIPTION:
URL:https://kualasungga.nadi.my/event/mahir-masak-6/
END:VEVENT
BEGIN:VEVENT
DTSTART;TZID=Asia/Kuala_Lumpur:20251003T150000
DTEND;TZID=Asia/Kuala_Lumpur:20251003T163000
DTSTAMP:20260420T123238
CREATED:20251001T082339Z
LAST-MODIFIED:20251001T082339Z
UID:3429-1759503600-1759509000@kualasungga.nadi.my
SUMMARY:MAHIR JAHIT
DESCRIPTION:
URL:https://kualasungga.nadi.my/event/mahir-jahit/
END:VEVENT
BEGIN:VEVENT
DTSTART;TZID=Asia/Kuala_Lumpur:20251004T143000
DTEND;TZID=Asia/Kuala_Lumpur:20251004T163000
DTSTAMP:20260420T123238
CREATED:20251001T082048Z
LAST-MODIFIED:20251001T082048Z
UID:3425-1759588200-1759595400@kualasungga.nadi.my
SUMMARY:DILEA- WEBINAR BERKALA BAHASA INGGERIS
DESCRIPTION:
URL:https://kualasungga.nadi.my/event/dilea-webinar-berkala-bahasa-inggeris/
END:VEVENT
BEGIN:VEVENT
DTSTART;TZID=Asia/Kuala_Lumpur:20251006T150000
DTEND;TZID=Asia/Kuala_Lumpur:20251006T163000
DTSTAMP:20260420T123238
CREATED:20251001T082749Z
LAST-MODIFIED:20251001T082749Z
UID:3432-1759762800-1759768200@kualasungga.nadi.my
SUMMARY:LIVECLASS DILEA MATEMATIK
DESCRIPTION:
URL:https://kualasungga.nadi.my/event/liveclass-dilea-matematik/
END:VEVENT
BEGIN:VEVENT
DTSTART;TZID=Asia/Kuala_Lumpur:20251007T100000
DTEND;TZID=Asia/Kuala_Lumpur:20251007T110000
DTSTAMP:20260420T123238
CREATED:20251001T085121Z
LAST-MODIFIED:20251001T085121Z
UID:3444-1759831200-1759834800@kualasungga.nadi.my
SUMMARY:WEBINAR STRATEGI PEMASARAN DIGITAL
DESCRIPTION:
URL:https://kualasungga.nadi.my/event/webinar-strategi-pemasaran-digital/
END:VEVENT
BEGIN:VEVENT
DTSTART;TZID=Asia/Kuala_Lumpur:20251007T140000
DTEND;TZID=Asia/Kuala_Lumpur:20251007T150000
DTSTAMP:20260420T123238
CREATED:20251001T084944Z
LAST-MODIFIED:20251001T090752Z
UID:3442-1759845600-1759849200@kualasungga.nadi.my
SUMMARY:WEBINAR ASAS KOMUNIKASI VISUAL
DESCRIPTION:
URL:https://kualasungga.nadi.my/event/webinar-asas-komunikasi-visual/
END:VEVENT
BEGIN:VEVENT
DTSTART;TZID=Asia/Kuala_Lumpur:20251007T150000
DTEND;TZID=Asia/Kuala_Lumpur:20251007T163000
DTSTAMP:20260420T123238
CREATED:20251001T082825Z
LAST-MODIFIED:20251001T082825Z
UID:3434-1759849200-1759854600@kualasungga.nadi.my
SUMMARY:LIVECLASS DILEA BAHASA MELAYU
DESCRIPTION:
URL:https://kualasungga.nadi.my/event/liveclass-dilea-bahasa-melayu/
END:VEVENT
BEGIN:VEVENT
DTSTART;TZID=Asia/Kuala_Lumpur:20251009T100000
DTEND;TZID=Asia/Kuala_Lumpur:20251009T110000
DTSTAMP:20260420T123238
CREATED:20251001T090904Z
LAST-MODIFIED:20251001T090904Z
UID:3446-1760004000-1760007600@kualasungga.nadi.my
SUMMARY:WEBINAR PEMASARAN DIGITAL - AI UNTUK MENCIPTA KANDUNGAN
DESCRIPTION:
URL:https://kualasungga.nadi.my/event/webinar-pemasaran-digital-ai-untuk-mencipta-kandungan/
END:VEVENT
BEGIN:VEVENT
DTSTART;TZID=Asia/Kuala_Lumpur:20251009T140000
DTEND;TZID=Asia/Kuala_Lumpur:20251009T150000
DTSTAMP:20260420T123238
CREATED:20251001T091031Z
LAST-MODIFIED:20251001T091031Z
UID:3448-1760018400-1760022000@kualasungga.nadi.my
SUMMARY:WEBINAR PEMASARAN DIGITAL - MUNGURUS & MENGUKUR KEBERKESANAN PEMASARAN DIGITAL
DESCRIPTION:
URL:https://kualasungga.nadi.my/event/webinar-pemasaran-digital-mungurus-mengukur-keberkesanan-pemasaran-digital/
END:VEVENT
BEGIN:VEVENT
DTSTART;TZID=Asia/Kuala_Lumpur:20251009T153000
DTEND;TZID=Asia/Kuala_Lumpur:20251009T163000
DTSTAMP:20260420T123238
CREATED:20251001T082901Z
LAST-MODIFIED:20251001T082901Z
UID:3436-1760023800-1760027400@kualasungga.nadi.my
SUMMARY:LIVECLASS DILEA SEJARAH
DESCRIPTION:
URL:https://kualasungga.nadi.my/event/liveclass-dilea-sejarah/
END:VEVENT
BEGIN:VEVENT
DTSTART;TZID=Asia/Kuala_Lumpur:20251010T150000
DTEND;TZID=Asia/Kuala_Lumpur:20251010T163000
DTSTAMP:20260420T123238
CREATED:20251001T083449Z
LAST-MODIFIED:20251001T083449Z
UID:3440-1760108400-1760113800@kualasungga.nadi.my
SUMMARY:WEBINAR CYBERSECURITY - ANCAMAN SIBER DI TEMPAT AWAM
DESCRIPTION:
URL:https://kualasungga.nadi.my/event/webinar-cybersecurity-ancaman-siber-di-tempat-awam/
END:VEVENT
BEGIN:VEVENT
DTSTART;TZID=Asia/Kuala_Lumpur:20251013T153000
DTEND;TZID=Asia/Kuala_Lumpur:20251013T163000
DTSTAMP:20260420T123238
CREATED:20251012T074937Z
LAST-MODIFIED:20251012T074937Z
UID:3458-1760369400-1760373000@kualasungga.nadi.my
SUMMARY:DILEA - Open Tuition SEJ
DESCRIPTION:
URL:https://kualasungga.nadi.my/event/dilea-open-tuition-sej/
END:VEVENT
BEGIN:VEVENT
DTSTART;TZID=Asia/Kuala_Lumpur:20251013T153000
DTEND;TZID=Asia/Kuala_Lumpur:20251013T163000
DTSTAMP:20260420T123238
CREATED:20251012T093620Z
LAST-MODIFIED:20251012T093620Z
UID:3462-1760369400-1760373000@kualasungga.nadi.my
SUMMARY:DILEA – Open Tuition Mathematik
DESCRIPTION:
URL:https://kualasungga.nadi.my/event/dilea-open-tuition-mathematik/
END:VEVENT
BEGIN:VEVENT
DTSTART;TZID=Asia/Kuala_Lumpur:20251014T093000
DTEND;TZID=Asia/Kuala_Lumpur:20251014T110000
DTSTAMP:20260420T123238
CREATED:20251012T093825Z
LAST-MODIFIED:20251012T093825Z
UID:3466-1760434200-1760439600@kualasungga.nadi.my
SUMMARY:Mahir Masak
DESCRIPTION:
URL:https://kualasungga.nadi.my/event/mahir-masak-7/
END:VEVENT
BEGIN:VEVENT
DTSTART;TZID=Asia/Kuala_Lumpur:20251014T093000
DTEND;TZID=Asia/Kuala_Lumpur:20251014T110000
DTSTAMP:20260420T123238
CREATED:20251012T093902Z
LAST-MODIFIED:20251012T093902Z
UID:3468-1760434200-1760439600@kualasungga.nadi.my
SUMMARY:Mahir Foto
DESCRIPTION:
URL:https://kualasungga.nadi.my/event/mahir-foto-2/
END:VEVENT
BEGIN:VEVENT
DTSTART;TZID=Asia/Kuala_Lumpur:20251014T100000
DTEND;TZID=Asia/Kuala_Lumpur:20251014T110000
DTSTAMP:20260420T123238
CREATED:20251012T093718Z
LAST-MODIFIED:20251012T093718Z
UID:3464-1760436000-1760439600@kualasungga.nadi.my
SUMMARY:Wellbeing - Webinar: Epilepsi Boleh Sembuh?
DESCRIPTION:
URL:https://kualasungga.nadi.my/event/wellbeing-webinar-epilepsi-boleh-sembuh/
END:VEVENT
BEGIN:VEVENT
DTSTART;TZID=Asia/Kuala_Lumpur:20251016T150000
DTEND;TZID=Asia/Kuala_Lumpur:20251016T163000
DTSTAMP:20260420T123238
CREATED:20251012T093928Z
LAST-MODIFIED:20251012T093928Z
UID:3470-1760626800-1760632200@kualasungga.nadi.my
SUMMARY:Mahir jahit
DESCRIPTION:
URL:https://kualasungga.nadi.my/event/mahir-jahit-2/
END:VEVENT
BEGIN:VEVENT
DTSTART;TZID=Asia/Kuala_Lumpur:20251024T150000
DTEND;TZID=Asia/Kuala_Lumpur:20251024T163000
DTSTAMP:20260420T123238
CREATED:20251024T022018Z
LAST-MODIFIED:20251024T022018Z
UID:3491-1761318000-1761323400@kualasungga.nadi.my
SUMMARY:WEBINAR NADI x CYBERSECURITY\,  ANCAMAN SIBER DI TEMPAT AWAM LIVE DEMO CARD CLONNING & TRACKER GADGET SLOT 2
DESCRIPTION:
URL:https://kualasungga.nadi.my/event/webinar-nadi-x-cybersecurity-ancaman-siber-di-tempat-awam-live-demo-card-clonning-tracker-gadget-slot-2/
END:VEVENT
BEGIN:VEVENT
DTSTART;TZID=Asia/Kuala_Lumpur:20251025T090000
DTEND;TZID=Asia/Kuala_Lumpur:20251025T130000
DTSTAMP:20260420T123238
CREATED:20251024T031405Z
LAST-MODIFIED:20251024T031405Z
UID:3499-1761382800-1761397200@kualasungga.nadi.my
SUMMARY:Webinar Visual Storytelling E-Sukan
DESCRIPTION:
URL:https://kualasungga.nadi.my/event/webinar-visual-storytelling-e-sukan/
END:VEVENT
BEGIN:VEVENT
DTSTART;TZID=Asia/Kuala_Lumpur:20251025T143000
DTEND;TZID=Asia/Kuala_Lumpur:20251025T163000
DTSTAMP:20260420T123238
CREATED:20251024T022113Z
LAST-MODIFIED:20251024T022113Z
UID:3493-1761402600-1761409800@kualasungga.nadi.my
SUMMARY:WEBINAR BERKALA MATEMATIK EDISI 4 TINGKATAN 1-5
DESCRIPTION:
URL:https://kualasungga.nadi.my/event/webinar-berkala-matematik-edisi-4-tingkatan-1-5/
END:VEVENT
END:VCALENDAR