BEGIN:VCALENDAR
VERSION:2.0
PRODID:-//NADI Kg Kuala Sungga - ECPv6.15.13.1//NONSGML v1.0//EN
CALSCALE:GREGORIAN
METHOD:PUBLISH
X-ORIGINAL-URL:https://kualasungga.nadi.my
X-WR-CALDESC:Events for NADI Kg Kuala Sungga
REFRESH-INTERVAL;VALUE=DURATION:PT1H
X-Robots-Tag:noindex
X-PUBLISHED-TTL:PT1H
BEGIN:VTIMEZONE
TZID:UTC
BEGIN:STANDARD
TZOFFSETFROM:+0000
TZOFFSETTO:+0000
TZNAME:UTC
DTSTART:20200101T000000
END:STANDARD
END:VTIMEZONE
BEGIN:VEVENT
DTSTART;TZID=UTC:20210401T100000
DTEND;TZID=UTC:20210430T170000
DTSTAMP:20260420T075650
CREATED:20210401T190350Z
LAST-MODIFIED:20210401T190350Z
UID:2685-1617271200-1619802000@kualasungga.nadi.my
SUMMARY:ADVOKASI KLIK DENGAN BIJAK (PERKONGSIAN MELALUI MEDIA SOSIAL)
DESCRIPTION:
URL:https://kualasungga.nadi.my/event/advokasi-klik-dengan-bijak-perkongsian-melalui-media-sosial-2/
CATEGORIES:DEFAULT
END:VEVENT
BEGIN:VEVENT
DTSTART;TZID=UTC:20210405T100000
DTEND;TZID=UTC:20210405T120000
DTSTAMP:20260420T075650
CREATED:20210401T190213Z
LAST-MODIFIED:20210401T190213Z
UID:2683-1617616800-1617624000@kualasungga.nadi.my
SUMMARY:KELAS PERNIGAAN MELALUI MEDIA SOSIAL
DESCRIPTION:
URL:https://kualasungga.nadi.my/event/kelas-pernigaan-melalui-media-sosial/
CATEGORIES:DEFAULT
END:VEVENT
BEGIN:VEVENT
DTSTART;TZID=UTC:20210405T100000
DTEND;TZID=UTC:20210409T170000
DTSTAMP:20260420T075650
CREATED:20210401T190435Z
LAST-MODIFIED:20210401T190435Z
UID:2686-1617616800-1617987600@kualasungga.nadi.my
SUMMARY:KEMPEN PENGGUNAAN SEBENARNYA.MY SECARA ATAS TALIAN
DESCRIPTION:
URL:https://kualasungga.nadi.my/event/kempen-penggunaan-sebenarnya-my-secara-atas-talian/
CATEGORIES:DEFAULT
END:VEVENT
BEGIN:VEVENT
DTSTART;TZID=UTC:20210405T150000
DTEND;TZID=UTC:20210407T170000
DTSTAMP:20260420T075650
CREATED:20210401T185946Z
LAST-MODIFIED:20210401T185946Z
UID:2679-1617634800-1617814800@kualasungga.nadi.my
SUMMARY:KELAS ASAS EMAIL DAN INTERNET
DESCRIPTION:
URL:https://kualasungga.nadi.my/event/kelas-asas-email-dan-internet-2/
CATEGORIES:DEFAULT
END:VEVENT
BEGIN:VEVENT
DTSTART;TZID=UTC:20210407T150000
DTEND;TZID=UTC:20210409T170000
DTSTAMP:20260420T075650
CREATED:20210401T190023Z
LAST-MODIFIED:20210401T190023Z
UID:2680-1617807600-1617987600@kualasungga.nadi.my
SUMMARY:KELAS ASAS GOOGLE DOCUMENT
DESCRIPTION:
URL:https://kualasungga.nadi.my/event/kelas-asas-google-document/
CATEGORIES:DEFAULT
END:VEVENT
BEGIN:VEVENT
DTSTART;TZID=UTC:20210413T100000
DTEND;TZID=UTC:20210430T170000
DTSTAMP:20260420T075650
CREATED:20210401T190540Z
LAST-MODIFIED:20210401T190540Z
UID:2687-1618308000-1619802000@kualasungga.nadi.my
SUMMARY:MYKOMUNITI TAZKIRAH RAMADHAN SECARA ATAS TALIAN
DESCRIPTION:
URL:https://kualasungga.nadi.my/event/mykomuniti-tazkirah-ramadhan-secara-atas-talian/
CATEGORIES:DEFAULT
END:VEVENT
BEGIN:VEVENT
DTSTART;TZID=UTC:20210416T150000
DTEND;TZID=UTC:20210418T170000
DTSTAMP:20260420T075650
CREATED:20210401T190059Z
LAST-MODIFIED:20210401T190059Z
UID:2681-1618585200-1618765200@kualasungga.nadi.my
SUMMARY:KELAS ASAS GOOGE SLIDE
DESCRIPTION:
URL:https://kualasungga.nadi.my/event/kelas-asas-googe-slide/
CATEGORIES:DEFAULT
END:VEVENT
BEGIN:VEVENT
DTSTART;TZID=UTC:20210416T150000
DTEND;TZID=UTC:20210418T170000
DTSTAMP:20260420T075650
CREATED:20210401T190141Z
LAST-MODIFIED:20210401T190141Z
UID:2682-1618585200-1618765200@kualasungga.nadi.my
SUMMARY:KELAS ASAS GOOGLE SHEET
DESCRIPTION:
URL:https://kualasungga.nadi.my/event/kelas-asas-google-sheet/
CATEGORIES:DEFAULT
END:VEVENT
BEGIN:VEVENT
DTSTART;TZID=UTC:20210423T150000
DTEND;TZID=UTC:20210423T170000
DTSTAMP:20260420T075650
CREATED:20210401T190254Z
LAST-MODIFIED:20210401T190254Z
UID:2684-1619190000-1619197200@kualasungga.nadi.my
SUMMARY:PENGENALAN KEPADA APLIKASI WHATSAPP BUSINESS
DESCRIPTION:
URL:https://kualasungga.nadi.my/event/pengenalan-kepada-aplikasi-whatsapp-business/
CATEGORIES:DEFAULT
END:VEVENT
END:VCALENDAR