BEGIN:VCALENDAR
VERSION:2.0
PRODID:-//NADI Kg Kuala Sungga - ECPv6.15.13.1//NONSGML v1.0//EN
CALSCALE:GREGORIAN
METHOD:PUBLISH
X-WR-CALNAME:NADI Kg Kuala Sungga
X-ORIGINAL-URL:https://kualasungga.nadi.my
X-WR-CALDESC:Events for NADI Kg Kuala Sungga
REFRESH-INTERVAL;VALUE=DURATION:PT1H
X-Robots-Tag:noindex
X-PUBLISHED-TTL:PT1H
BEGIN:VTIMEZONE
TZID:UTC
BEGIN:STANDARD
TZOFFSETFROM:+0000
TZOFFSETTO:+0000
TZNAME:UTC
DTSTART:20190101T000000
END:STANDARD
END:VTIMEZONE
BEGIN:VEVENT
DTSTART;TZID=UTC:20200115T150000
DTEND;TZID=UTC:20210104T170000
DTSTAMP:20260425T102312
CREATED:20210103T180444Z
LAST-MODIFIED:20210103T180444Z
UID:2653-1579100400-1609779600@kualasungga.nadi.my
SUMMARY:ASAS MICROSOFT WORD
DESCRIPTION:
URL:https://kualasungga.nadi.my/event/asas-microsoft-word-12/
CATEGORIES:DEFAULT
END:VEVENT
BEGIN:VEVENT
DTSTART;TZID=UTC:20200122T150000
DTEND;TZID=UTC:20210104T170000
DTSTAMP:20260425T102312
CREATED:20210103T181100Z
LAST-MODIFIED:20210103T181100Z
UID:2655-1579705200-1609779600@kualasungga.nadi.my
SUMMARY:ASAS MICROSOFT POWERPOINT
DESCRIPTION:
URL:https://kualasungga.nadi.my/event/asas-microsoft-powerpoint-11/
CATEGORIES:DEFAULT
END:VEVENT
BEGIN:VEVENT
DTSTART;TZID=UTC:20201204T150000
DTEND;TZID=UTC:20201204T170000
DTSTAMP:20260425T102312
CREATED:20201201T015837Z
LAST-MODIFIED:20201201T015837Z
UID:2642-1607094000-1607101200@kualasungga.nadi.my
SUMMARY:ASAS KOMPUTER/WINDOWS
DESCRIPTION:
URL:https://kualasungga.nadi.my/event/asas-komputer-windows-9/
CATEGORIES:DEFAULT
END:VEVENT
BEGIN:VEVENT
DTSTART;TZID=UTC:20201207T030000
DTEND;TZID=UTC:20201207T170000
DTSTAMP:20260425T102312
CREATED:20201201T020103Z
LAST-MODIFIED:20201201T020103Z
UID:2646-1607310000-1607360400@kualasungga.nadi.my
SUMMARY:ASAS PEMBUATAN ALIRAN TUNAI SESI I
DESCRIPTION:
URL:https://kualasungga.nadi.my/event/asas-pembuatan-aliran-tunai-sesi-i/
CATEGORIES:DEFAULT
END:VEVENT
BEGIN:VEVENT
DTSTART;TZID=UTC:20201207T100000
DTEND;TZID=UTC:20201207T120000
DTSTAMP:20260425T102312
CREATED:20201201T020257Z
LAST-MODIFIED:20201201T020257Z
UID:2650-1607335200-1607342400@kualasungga.nadi.my
SUMMARY:ADVOKASI KLIK DENGAN BIJAK
DESCRIPTION:
URL:https://kualasungga.nadi.my/event/advokasi-klik-dengan-bijak-11/
CATEGORIES:DEFAULT
END:VEVENT
BEGIN:VEVENT
DTSTART;TZID=UTC:20201208T150000
DTEND;TZID=UTC:20201208T170000
DTSTAMP:20260425T102312
CREATED:20201201T020127Z
LAST-MODIFIED:20201201T020127Z
UID:2647-1607439600-1607446800@kualasungga.nadi.my
SUMMARY:ASAS PEMBUATAN ALIRAN TUNAI SESI II
DESCRIPTION:
URL:https://kualasungga.nadi.my/event/asas-pembuatan-aliran-tunai-sesi-ii/
CATEGORIES:DEFAULT
END:VEVENT
BEGIN:VEVENT
DTSTART;TZID=UTC:20201209T100000
DTEND;TZID=UTC:20201209T130000
DTSTAMP:20260425T102312
CREATED:20201201T020201Z
LAST-MODIFIED:20201201T020201Z
UID:2648-1607508000-1607518800@kualasungga.nadi.my
SUMMARY:ONLINE TRAINING (SHOPEE)
DESCRIPTION:
URL:https://kualasungga.nadi.my/event/online-training-shopee/
CATEGORIES:DEFAULT
END:VEVENT
BEGIN:VEVENT
DTSTART;TZID=UTC:20201210T150000
DTEND;TZID=UTC:20201210T170000
DTSTAMP:20260425T102312
CREATED:20201201T020226Z
LAST-MODIFIED:20201201T020226Z
UID:2649-1607612400-1607619600@kualasungga.nadi.my
SUMMARY:ASAS PEMBUATAN KERTAS KERJA
DESCRIPTION:
URL:https://kualasungga.nadi.my/event/asas-pembuatan-kertas-kerja-2/
CATEGORIES:DEFAULT
END:VEVENT
BEGIN:VEVENT
DTSTART;TZID=UTC:20201211T150000
DTEND;TZID=UTC:20201211T170000
DTSTAMP:20260425T102312
CREATED:20201201T015921Z
LAST-MODIFIED:20201201T015921Z
UID:2643-1607698800-1607706000@kualasungga.nadi.my
SUMMARY:ASAS MICROSOFT WORD
DESCRIPTION:
URL:https://kualasungga.nadi.my/event/asas-microsoft-word-11/
CATEGORIES:DEFAULT
END:VEVENT
BEGIN:VEVENT
DTSTART;TZID=UTC:20201218T150000
DTEND;TZID=UTC:20201218T170000
DTSTAMP:20260425T102312
CREATED:20201201T015953Z
LAST-MODIFIED:20201201T015953Z
UID:2644-1608303600-1608310800@kualasungga.nadi.my
SUMMARY:ASAS MICROSOFT POWERPOINT
DESCRIPTION:
URL:https://kualasungga.nadi.my/event/asas-microsoft-powerpoint-9/
CATEGORIES:DEFAULT
END:VEVENT
BEGIN:VEVENT
DTSTART;TZID=UTC:20201219T100000
DTEND;TZID=UTC:20201219T120000
DTSTAMP:20260425T102312
CREATED:20201201T020331Z
LAST-MODIFIED:20201201T020331Z
UID:2651-1608372000-1608379200@kualasungga.nadi.my
SUMMARY:KEBEBASAN BERSUARA BUKAN KEBEBASAN BERBOHONG
DESCRIPTION:
URL:https://kualasungga.nadi.my/event/kebebasan-bersuara-bukan-kebebasan-berbohong-3/
CATEGORIES:DEFAULT
END:VEVENT
BEGIN:VEVENT
DTSTART;TZID=UTC:20201226T150000
DTEND;TZID=UTC:20201226T170000
DTSTAMP:20260425T102312
CREATED:20201201T020025Z
LAST-MODIFIED:20201201T020025Z
UID:2645-1608994800-1609002000@kualasungga.nadi.my
SUMMARY:KELAS MULTIMEDIA (SUNTINGAN VIDEO)
DESCRIPTION:
URL:https://kualasungga.nadi.my/event/kelas-multimedia-suntingan-video/
CATEGORIES:DEFAULT
END:VEVENT
END:VCALENDAR